BEGIN:VCALENDAR
VERSION:2.0
PRODID:-//TYPO3/NONSGML Calendarize//EN
BEGIN:VEVENT
UID:calendarize-ag-stadtentwicklung-9-20260602
DTSTAMP:20260420T184149Z
DTSTART:20260602T163000Z
DTEND:20260602T183000Z
SUMMARY:AG Stadtentwicklung
DESCRIPTION:📍 Wahlkreisbüro Bönischplatz 11\, Dresden Johannstadt
X-ALT-DESC;FMTTYPE=text/html:<p>📍 Wahlkreisbüro Bönischplatz 11\, Dre
 sden Johannstadt</p>
LOCATION:
END:VEVENT
END:VCALENDAR
