BEGIN:VCALENDAR
VERSION:2.0
PRODID:-//TYPO3/NONSGML Calendarize//EN
BEGIN:VEVENT
UID:calendarize-nordrunde-54-20260527
DTSTAMP:20260423T160104Z
DTSTART:20260527T170000Z
DTEND:20260527T190000Z
SUMMARY:Regionalgruppe: Nordrunde
DESCRIPTION:Die Regionalgruppe organisiert Aktionen im Stadtbezirk und ver
 netzt sich mit lokalen Gruppen. Interessierte aus dem Dresdner Norden sind
  herzlich willkommen!\n📍 Volkssolidarität. Begegnungs- und Beratungsz
 entrum Klotzsche\, Langebrücker Str. 4\, 01109 Dresden
X-ALT-DESC;FMTTYPE=text/html:<p>Die Regionalgruppe organisiert Aktionen im
  Stadtbezirk und vernetzt sich mit lokalen Gruppen. Interessierte aus dem 
 Dresdner Norden sind herzlich willkommen!</p>\n<p>📍&nbsp\;Volkssolidari
 tät. Begegnungs- und Beratungszentrum Klotzsche\, Langebrücker Str. 4\, 
 01109 Dresden</p>
LOCATION:
END:VEVENT
END:VCALENDAR
