BEGIN:VCALENDAR
VERSION:2.0
PRODID:-//TYPO3/NONSGML Calendarize//EN
BEGIN:VEVENT
UID:calendarize-offener-gruener-sommerstammtisch-20260601
DTSTAMP:20260423T155833Z
DTSTART:20260601T170000Z
SUMMARY:Offener GRÜNER Sommerstammtisch
DESCRIPTION:📍 Biergarten Elbegarten\, Friedrich-Wieck-Str.18\, Dresden
X-ALT-DESC;FMTTYPE=text/html:<p>📍&nbsp\;Biergarten Elbegarten\, Friedri
 ch-Wieck-Str.18\, Dresden</p>
LOCATION:
END:VEVENT
END:VCALENDAR
