BEGIN:VCALENDAR
VERSION:2.0
PRODID:-//TYPO3/NONSGML Calendarize//EN
BEGIN:VEVENT
UID:calendarize-pieschenrunde-56-20260519
DTSTAMP:20260423T160817Z
DTSTART:20260519T163000Z
DTEND:20260519T190000Z
SUMMARY:Regionalgruppe: Pieschenrunde
DESCRIPTION:Die Regionalgruppe organisiert Aktionen im Stadtbezirk und ver
 netzt sich mit lokalen Gruppen. Interessierte aus dem Stadtbezirk Pieschen
  sind herzlich willkommen!\n📍 Kreative Werkstatt Dresden e.V. Bürgers
 traße 50\, 01127 Dresden\, Deutschland
X-ALT-DESC;FMTTYPE=text/html:<p>Die Regionalgruppe organisiert Aktionen im
  Stadtbezirk und vernetzt sich mit lokalen Gruppen. Interessierte aus dem 
 Stadtbezirk Pieschen sind herzlich willkommen!</p>\n<p>📍&nbsp\;Kreative
  Werkstatt Dresden e.V. Bürgerstraße 50\, 01127 Dresden\, Deutschland</p
 >
LOCATION:
END:VEVENT
END:VCALENDAR
